BEGIN:VCALENDAR
PRODID:-//dvv-bw.de//dvv.Portalplattform//DE
VERSION:2.0
METHOD:PUBLISH
BEGIN:VEVENT
DTSTART:20260726T081500Z
DTEND:20260726T101500Z
DTSTAMP:20260420T080237Z
UID:523254015130-523207927915-1785016800000
SUMMARY:Biegel Treff Dorffest
LOCATION:Waldrems\, Biegel Remsstraße
DESCRIPTION:Biegel Treff Dorffest
CLASS:PUBLIC
X-ALT-DESC;FMTTYPE=text/html:Biegel Treff Dorffest
END:VEVENT
END:VCALENDAR
