BEGIN:VCALENDAR
PRODID:-//dvv-bw.de//dvv.Portalplattform//DE
VERSION:2.0
METHOD:PUBLISH
BEGIN:VEVENT
DTSTART:20260725T160000Z
DTEND:20260725T180000Z
DTSTAMP:20260420T062146Z
UID:523254015131-523207927915-1784930400000
SUMMARY:Biegel Treff Dorffest
LOCATION:Waldrems\, Biegel Remsstraße
DESCRIPTION:Biegel Treff Dorffest
CLASS:PUBLIC
X-ALT-DESC;FMTTYPE=text/html:Biegel Treff Dorffest
END:VEVENT
END:VCALENDAR
