BEGIN:VCALENDAR
PRODID:-//dvv-bw.de//dvv.Portalplattform//DE
VERSION:2.0
METHOD:PUBLISH
BEGIN:VEVENT
DTSTART:20261017T170000Z
DTEND:20261017T170000Z
DTSTAMP:20260420T131938Z
UID:523254015102-523254017550-1792188000000
SUMMARY:Biketoberfest 2026
LOCATION:Stadthalle
DESCRIPTION:Oktoberfest mit Partyband
CLASS:PUBLIC
X-ALT-DESC;FMTTYPE=text/html:Oktoberfest mit Partyband
END:VEVENT
END:VCALENDAR
