BEGIN:VCALENDAR
PRODID:-//dvv-bw.de//dvv.Portalplattform//DE
VERSION:2.0
METHOD:PUBLISH
BEGIN:VEVENT
DTSTART:20260425T113000Z
DTEND:20260425T133000Z
DTSTAMP:20260420T062246Z
UID:523254015127-523236199557-1777068000000
SUMMARY:Boule-Turnier
LOCATION:Boule-Platz Waldrems
DESCRIPTION:Boule-Turnier
CLASS:PUBLIC
X-ALT-DESC;FMTTYPE=text/html:Boule-Turnier
END:VEVENT
END:VCALENDAR
