BEGIN:VCALENDAR
PRODID:-//dvv-bw.de//dvv.Portalplattform//DE
VERSION:2.0
METHOD:PUBLISH
BEGIN:VEVENT
DTSTART:20260523T160000Z
DTEND:20260523T190000Z
DTSTAMP:20260420T131912Z
UID:523254499851-523254499751-1779487200000
SUMMARY:Cris Cosmo Live Konzert
LOCATION:Waldheim\, Wilhelm-Erlenbusch-Straße 1
DESCRIPTION:Cris Cosmo feat. Paul Kalemba (Cajón)\n \nWeitere Infos unter Cris Cosmo Live
CLASS:PUBLIC
X-ALT-DESC;FMTTYPE=text/html:Cris Cosmo feat. Paul Kalemba (Cajón)<br> <br>Weitere Infos unter Cris Cosmo Live
END:VEVENT
END:VCALENDAR
