BEGIN:VCALENDAR
PRODID:-//dvv-bw.de//dvv.Portalplattform//DE
VERSION:2.0
METHOD:PUBLISH
BEGIN:VEVENT
DTSTART:20260705T080000Z
DTEND:20260705T160000Z
DTSTAMP:20260420T093919Z
UID:523254015105-523251932602-1783202400000
SUMMARY:Dorffest
LOCATION:hinter der Dorfhalle
DESCRIPTION:gemütliches Dorffest in Steinbach mit Gottesdienst und musikalischer Unterhaltung
CLASS:PUBLIC
X-ALT-DESC;FMTTYPE=text/html:gemütliches Dorffest in Steinbach mit Gottesdienst und musikalischer Unterhaltung
END:VEVENT
END:VCALENDAR
