BEGIN:VCALENDAR
PRODID:-//dvv-bw.de//dvv.Portalplattform//DE
VERSION:2.0
METHOD:PUBLISH
BEGIN:VEVENT
DTSTART:20260510T081500Z
DTEND:20260510T101500Z
DTSTAMP:20260420T194155Z
UID:523254015136-523254017565-1778364000000
SUMMARY:Jubiläumsgottesdienst anlässlich 125 Jahre Gesangverein Harmonie
LOCATION:Reisbachhalle, Waldrems
DESCRIPTION:Jubiläumsgottesdienst anlässlich 125 Jahre Gesangverein Harmonie
CLASS:PUBLIC
X-ALT-DESC;FMTTYPE=text/html:Jubiläumsgottesdienst anlässlich 125 Jahre Gesangverein Harmonie
END:VEVENT
END:VCALENDAR
