BEGIN:VCALENDAR
PRODID:-//dvv-bw.de//dvv.Portalplattform//DE
VERSION:2.0
METHOD:PUBLISH
BEGIN:VEVENT
DTSTART:20260510T170000Z
DTEND:20260510T183000Z
DTSTAMP:20260420T113646Z
UID:523254015104-523254017552-1778364000000
SUMMARY:Kirche und Akkordeon
LOCATION:Stiftskirche
DESCRIPTION:Unterhaltsame und konzertante Lieder auf dem Akkordeon
CLASS:PUBLIC
X-ALT-DESC;FMTTYPE=text/html:Unterhaltsame und konzertante Lieder auf dem Akkordeon
END:VEVENT
END:VCALENDAR
