BEGIN:VCALENDAR
PRODID:-//dvv-bw.de//dvv.Portalplattform//DE
VERSION:2.0
METHOD:PUBLISH
BEGIN:VEVENT
DTSTART:20261107T190000Z
DTEND:20261107T220000Z
DTSTAMP:20260420T023000Z
UID:523254065810-523254061103-1794006000000
SUMMARY:Lars Reichow - Boomerland
LOCATION:Backnanger Bürgerhaus\, Bahnhofstraße 7\, 71522 Backnang
DESCRIPTION:Als besonderes Highlight zum 60.-jährigen Vereinsjubiläum hat der club junges europa den Musiker und Kabarettisten Lars Reichow mit seinem Programm BOOMERLAND ins Backnanger Bürgerhaus eingeladen.
CLASS:PUBLIC
X-ALT-DESC;FMTTYPE=text/html:Als besonderes Highlight zum 60.-jährigen Vereinsjubiläum hat der club junges europa den Musiker und Kabarettisten Lars Reichow mit seinem Programm BOOMERLAND ins Backnanger Bürgerhaus eingeladen.
END:VEVENT
END:VCALENDAR
