BEGIN:VCALENDAR
PRODID:-//dvv-bw.de//dvv.Portalplattform//DE
VERSION:2.0
METHOD:PUBLISH
BEGIN:VEVENT
DTSTART:20260425T080000Z
DTEND:20260425T100000Z
DTSTAMP:20260420T095644Z
UID:523254089057-523254088953-1777068000000
SUMMARY:Maibaum richten und aufstellen
LOCATION:Rathaus Maubach
DESCRIPTION:Maibaum richten und aufstellen
CLASS:PUBLIC
X-ALT-DESC;FMTTYPE=text/html:Maibaum richten und aufstellen
END:VEVENT
END:VCALENDAR
