BEGIN:VCALENDAR
PRODID:-//dvv-bw.de//dvv.Portalplattform//DE
VERSION:2.0
METHOD:PUBLISH
BEGIN:VEVENT
DTSTART:20260430T150000Z
DTEND:20260430T170000Z
DTSTAMP:20260420T094502Z
UID:523254015132-523092629435-1777500000000
SUMMARY:Maibaumaufstellung
LOCATION:Dorfscheuer/ -platz Heiningen
DESCRIPTION:Maibaumaufstellung
CLASS:PUBLIC
X-ALT-DESC;FMTTYPE=text/html:Maibaumaufstellung
END:VEVENT
END:VCALENDAR
