BEGIN:VCALENDAR
PRODID:-//dvv-bw.de//dvv.Portalplattform//DE
VERSION:2.0
METHOD:PUBLISH
BEGIN:VEVENT
DTSTART:20260621T083000Z
DTEND:20260621T103000Z
DTSTAMP:20260420T162319Z
UID:523254015139-523254017568-1781992800000
SUMMARY:Patrozinium
LOCATION:St. Johanneskirche
DESCRIPTION:Patrozinium
CLASS:PUBLIC
X-ALT-DESC;FMTTYPE=text/html:Patrozinium
END:VEVENT
END:VCALENDAR
