BEGIN:VCALENDAR
PRODID:-//dvv-bw.de//dvv.Portalplattform//DE
VERSION:2.0
METHOD:PUBLISH
BEGIN:VEVENT
DTSTART:20260920T120000Z
DTEND:20260920T160000Z
DTSTAMP:20260421T021918Z
UID:523254089060-523254088956-1789855200000
SUMMARY:Salzkuchenfest
LOCATION:Dorfscheuer/ -platz Heiningen
DESCRIPTION:Salzkuchenfest
CLASS:PUBLIC
X-ALT-DESC;FMTTYPE=text/html:Salzkuchenfest
END:VEVENT
END:VCALENDAR
