BEGIN:VCALENDAR
PRODID:-//dvv-bw.de//dvv.Portalplattform//DE
VERSION:2.0
METHOD:PUBLISH
BEGIN:VEVENT
DTSTART:20260518T220000Z
DTEND:20260518T220000Z
DTSTAMP:20260420T081319Z
UID:523254015137-523254017566-1779141600000
SUMMARY:Senioren- und Gemeindeausflug
DESCRIPTION:Senioren- und Gemeindeausflug
CLASS:PUBLIC
X-ALT-DESC;FMTTYPE=text/html:Senioren- und Gemeindeausflug
END:VEVENT
END:VCALENDAR
