BEGIN:VCALENDAR
PRODID:-//dvv-bw.de//dvv.Portalplattform//DE
VERSION:2.0
METHOD:PUBLISH
BEGIN:VEVENT
DTSTART:20260704T160000Z
DTEND:20260704T180000Z
DTSTAMP:20260420T062216Z
UID:523254015126-523134477877-1783116000000
SUMMARY:Sommerfest
LOCATION:Wohnhof Maubach, Zirler Weg 6-34
DESCRIPTION:Sommerfest
CLASS:PUBLIC
X-ALT-DESC;FMTTYPE=text/html:Sommerfest
END:VEVENT
END:VCALENDAR
