BEGIN:VCALENDAR
PRODID:-//dvv-bw.de//dvv.Portalplattform//DE
VERSION:2.0
METHOD:PUBLISH
BEGIN:VEVENT
DTSTART:20260425T150000Z
DTEND:20260425T170000Z
DTSTAMP:20260420T080423Z
UID:523254089058-523254088954-1777068000000
SUMMARY:Versteigerung alter Maibaum
LOCATION:Rathaus Maubach
DESCRIPTION:Versteigerung alter Maibaum
CLASS:PUBLIC
X-ALT-DESC;FMTTYPE=text/html:Versteigerung alter Maibaum
END:VEVENT
END:VCALENDAR
